BEGIN:VCALENDAR
VERSION:2.0
PRODID:-//Chimney Rock National Monument - ECPv6.15.20//NONSGML v1.0//EN
CALSCALE:GREGORIAN
METHOD:PUBLISH
X-WR-CALNAME:Chimney Rock National Monument
X-ORIGINAL-URL:https://www.chimneyrockco.org
X-WR-CALDESC:Events for Chimney Rock National Monument
REFRESH-INTERVAL;VALUE=DURATION:PT1H
X-Robots-Tag:noindex
X-PUBLISHED-TTL:PT1H
BEGIN:VTIMEZONE
TZID:UTC
BEGIN:STANDARD
TZOFFSETFROM:+0000
TZOFFSETTO:+0000
TZNAME:UTC
DTSTART:20250101T000000
END:STANDARD
END:VTIMEZONE
BEGIN:VEVENT
DTSTART;TZID=UTC:20260613T173000
DTEND;TZID=UTC:20260613T200000
DTSTAMP:20260421T144613
CREATED:20250215T185847Z
LAST-MODIFIED:20260217T023457Z
UID:10003453-1781371800-1781380800@www.chimneyrockco.org
SUMMARY:Flute Music at Twilight Program
DESCRIPTION:PROGRAMS DETAILS \nThis program is offered once a month on Saturday evenings from 6 p.m. to 8 p.m. during quiet off-hours of the Monument\, recently designated an International Dark Sky Park.  A 2.5-mile drive from the Visitor Center leads to the upper parking lot where this Native American musical program takes place. Prior to the event\, visitors will take a 1/3-mile guided walk along the paved loop through a Mesa Village. The tour provides excellent views of several excavated structures along with discussion of the various aspects of their uses. \nKNOW BEFORE YOU GO \nUpon returning to the parking area\, as dusk progresses and stars begin to appear\, visitors will be treated to the haunting melodies of a flute played by our own Charles Martinez. Charles\, a Native American\, makes his flutes and composes his music. This affords a wonderful opportunity to gaze in wonder at the heavenly skies and ponder what significance they had for the Ancestral Puebloans when they looked up at the same night skies 1\,000 years ago. There is a limited amount of seating on wooden and stone benches; so folding chairs are suggested along with flashlights and warm clothing suitable for cool nights. Recommended for ages 4 and up. \nTICKETS \nCheck-in is at the Highway 151 entrance gate at the time stated below for each tour. Please adhere to the check-in timeline. The gate will be locked at the end of that time. Please note that the tour will begin promptly at the end of the check-in period\, so it will not be possible to accommodate late arrivals. The fee is $20.00 for ages 13 and up\, $10.00 for ages 5-12\, and under 5 are free\, and is considered a non-refundable and non-transferable donation.  Making a reservation through the Recreation.gov website or the call center (877-444-6777) is the only way to guarantee a spot for this tour. Recreation.gov charges a $1.00 reservation fee that is non-refundable. To ensure this tour is scheduled\, reservations are strongly recommended. Reservations will be cut off 12 hours prior to the start of the tour. \nThis program is rarely at full capacity prior to the event\, and we will accommodate walk-ins if space is available. They will be accepted on a first-come\, first-served basis\, and must arrive during the specified check-in time frame. Tour tickets can be purchased directly from the guide with cash only. Note: if no one has signed up for the tour by online reservation within the allotted time frame\, the tour will not run. In such a case\, walk-ins will not be possible. Refunds will be issued only for cancelled – not modified – tours/programs. No refunds will be issued for no-shows. \nDates:  \nSaturday evenings: \nJune 13\, July 11\, August 8\, September 19 \nCheck-in: 5:30 p.m. – 6:00 p.m. \nProgram:  6:00 p.m. – 8:00 p.m. \nCapacity: 30 \n\nBOOK NOW
URL:https://www.chimneyrockco.org/event/flute-music-at-twilight-program/2026-06-13/
LOCATION:Chimney Rock National Monument\, 3179 CO-151\, Chimney Rock\, CO\, 811212\, United States
ATTACH;FMTTYPE=image/jpeg:https://www.chimneyrockco.org/wp-content/uploads/2022/11/small-NS.jpg
ORGANIZER;CN="Chimney Rock Interpretive Association":MAILTO:chimneyrock@chimneyrockco.org
END:VEVENT
BEGIN:VEVENT
DTSTART;TZID=UTC:20260711T180000
DTEND;TZID=UTC:20260711T200000
DTSTAMP:20260421T144613
CREATED:20250215T185847Z
LAST-MODIFIED:20260217T023457Z
UID:10003454-1783792800-1783800000@www.chimneyrockco.org
SUMMARY:Flute Music at Twilight Program
DESCRIPTION:PROGRAMS DETAILS \nThis program is offered once a month on Saturday evenings from 6 p.m. to 8 p.m. during quiet off-hours of the Monument\, recently designated an International Dark Sky Park.  A 2.5-mile drive from the Visitor Center leads to the upper parking lot where this Native American musical program takes place. Prior to the event\, visitors will take a 1/3-mile guided walk along the paved loop through a Mesa Village. The tour provides excellent views of several excavated structures along with discussion of the various aspects of their uses. \nKNOW BEFORE YOU GO \nUpon returning to the parking area\, as dusk progresses and stars begin to appear\, visitors will be treated to the haunting melodies of a flute played by our own Charles Martinez. Charles\, a Native American\, makes his flutes and composes his music. This affords a wonderful opportunity to gaze in wonder at the heavenly skies and ponder what significance they had for the Ancestral Puebloans when they looked up at the same night skies 1\,000 years ago. There is a limited amount of seating on wooden and stone benches; so folding chairs are suggested along with flashlights and warm clothing suitable for cool nights. Recommended for ages 4 and up. \nTICKETS \nCheck-in is at the Highway 151 entrance gate at the time stated below for each tour. Please adhere to the check-in timeline. The gate will be locked at the end of that time. Please note that the tour will begin promptly at the end of the check-in period\, so it will not be possible to accommodate late arrivals. The fee is $20.00 for ages 13 and up\, $10.00 for ages 5-12\, and under 5 are free\, and is considered a non-refundable and non-transferable donation.  Making a reservation through the Recreation.gov website or the call center (877-444-6777) is the only way to guarantee a spot for this tour. Recreation.gov charges a $1.00 reservation fee that is non-refundable. To ensure this tour is scheduled\, reservations are strongly recommended. Reservations will be cut off 12 hours prior to the start of the tour. \nThis program is rarely at full capacity prior to the event\, and we will accommodate walk-ins if space is available. They will be accepted on a first-come\, first-served basis\, and must arrive during the specified check-in time frame. Tour tickets can be purchased directly from the guide with cash only. Note: if no one has signed up for the tour by online reservation within the allotted time frame\, the tour will not run. In such a case\, walk-ins will not be possible. Refunds will be issued only for cancelled – not modified – tours/programs. No refunds will be issued for no-shows. \nDates:  \nSaturday evenings: \nJune 13\, July 11\, August 8\, September 19 \nCheck-in: 5:30 p.m. – 6:00 p.m. \nProgram:  6:00 p.m. – 8:00 p.m. \nCapacity: 30 \n\nBOOK NOW
URL:https://www.chimneyrockco.org/event/flute-music-at-twilight-program/2026-07-11/
LOCATION:Chimney Rock National Monument\, 3179 CO-151\, Chimney Rock\, CO\, 811212\, United States
ATTACH;FMTTYPE=image/jpeg:https://www.chimneyrockco.org/wp-content/uploads/2022/11/small-NS.jpg
ORGANIZER;CN="Chimney Rock Interpretive Association":MAILTO:chimneyrock@chimneyrockco.org
END:VEVENT
BEGIN:VEVENT
DTSTART;TZID=UTC:20260808T180000
DTEND;TZID=UTC:20260808T200000
DTSTAMP:20260421T144613
CREATED:20250215T185847Z
LAST-MODIFIED:20260217T023457Z
UID:10003455-1786212000-1786219200@www.chimneyrockco.org
SUMMARY:Flute Music at Twilight Program
DESCRIPTION:PROGRAMS DETAILS \nThis program is offered once a month on Saturday evenings from 6 p.m. to 8 p.m. during quiet off-hours of the Monument\, recently designated an International Dark Sky Park.  A 2.5-mile drive from the Visitor Center leads to the upper parking lot where this Native American musical program takes place. Prior to the event\, visitors will take a 1/3-mile guided walk along the paved loop through a Mesa Village. The tour provides excellent views of several excavated structures along with discussion of the various aspects of their uses. \nKNOW BEFORE YOU GO \nUpon returning to the parking area\, as dusk progresses and stars begin to appear\, visitors will be treated to the haunting melodies of a flute played by our own Charles Martinez. Charles\, a Native American\, makes his flutes and composes his music. This affords a wonderful opportunity to gaze in wonder at the heavenly skies and ponder what significance they had for the Ancestral Puebloans when they looked up at the same night skies 1\,000 years ago. There is a limited amount of seating on wooden and stone benches; so folding chairs are suggested along with flashlights and warm clothing suitable for cool nights. Recommended for ages 4 and up. \nTICKETS \nCheck-in is at the Highway 151 entrance gate at the time stated below for each tour. Please adhere to the check-in timeline. The gate will be locked at the end of that time. Please note that the tour will begin promptly at the end of the check-in period\, so it will not be possible to accommodate late arrivals. The fee is $20.00 for ages 13 and up\, $10.00 for ages 5-12\, and under 5 are free\, and is considered a non-refundable and non-transferable donation.  Making a reservation through the Recreation.gov website or the call center (877-444-6777) is the only way to guarantee a spot for this tour. Recreation.gov charges a $1.00 reservation fee that is non-refundable. To ensure this tour is scheduled\, reservations are strongly recommended. Reservations will be cut off 12 hours prior to the start of the tour. \nThis program is rarely at full capacity prior to the event\, and we will accommodate walk-ins if space is available. They will be accepted on a first-come\, first-served basis\, and must arrive during the specified check-in time frame. Tour tickets can be purchased directly from the guide with cash only. Note: if no one has signed up for the tour by online reservation within the allotted time frame\, the tour will not run. In such a case\, walk-ins will not be possible. Refunds will be issued only for cancelled – not modified – tours/programs. No refunds will be issued for no-shows. \nDates:  \nSaturday evenings: \nJune 13\, July 11\, August 8\, September 19 \nCheck-in: 5:30 p.m. – 6:00 p.m. \nProgram:  6:00 p.m. – 8:00 p.m. \nCapacity: 30 \n\nBOOK NOW
URL:https://www.chimneyrockco.org/event/flute-music-at-twilight-program/2026-08-08/
LOCATION:Chimney Rock National Monument\, 3179 CO-151\, Chimney Rock\, CO\, 811212\, United States
ATTACH;FMTTYPE=image/jpeg:https://www.chimneyrockco.org/wp-content/uploads/2022/11/small-NS.jpg
ORGANIZER;CN="Chimney Rock Interpretive Association":MAILTO:chimneyrock@chimneyrockco.org
END:VEVENT
BEGIN:VEVENT
DTSTART;TZID=UTC:20260919T180000
DTEND;TZID=UTC:20260919T200000
DTSTAMP:20260421T144613
CREATED:20250215T185847Z
LAST-MODIFIED:20260217T023457Z
UID:10003456-1789840800-1789848000@www.chimneyrockco.org
SUMMARY:Flute Music at Twilight Program
DESCRIPTION:PROGRAMS DETAILS \nThis program is offered once a month on Saturday evenings from 6 p.m. to 8 p.m. during quiet off-hours of the Monument\, recently designated an International Dark Sky Park.  A 2.5-mile drive from the Visitor Center leads to the upper parking lot where this Native American musical program takes place. Prior to the event\, visitors will take a 1/3-mile guided walk along the paved loop through a Mesa Village. The tour provides excellent views of several excavated structures along with discussion of the various aspects of their uses. \nKNOW BEFORE YOU GO \nUpon returning to the parking area\, as dusk progresses and stars begin to appear\, visitors will be treated to the haunting melodies of a flute played by our own Charles Martinez. Charles\, a Native American\, makes his flutes and composes his music. This affords a wonderful opportunity to gaze in wonder at the heavenly skies and ponder what significance they had for the Ancestral Puebloans when they looked up at the same night skies 1\,000 years ago. There is a limited amount of seating on wooden and stone benches; so folding chairs are suggested along with flashlights and warm clothing suitable for cool nights. Recommended for ages 4 and up. \nTICKETS \nCheck-in is at the Highway 151 entrance gate at the time stated below for each tour. Please adhere to the check-in timeline. The gate will be locked at the end of that time. Please note that the tour will begin promptly at the end of the check-in period\, so it will not be possible to accommodate late arrivals. The fee is $20.00 for ages 13 and up\, $10.00 for ages 5-12\, and under 5 are free\, and is considered a non-refundable and non-transferable donation.  Making a reservation through the Recreation.gov website or the call center (877-444-6777) is the only way to guarantee a spot for this tour. Recreation.gov charges a $1.00 reservation fee that is non-refundable. To ensure this tour is scheduled\, reservations are strongly recommended. Reservations will be cut off 12 hours prior to the start of the tour. \nThis program is rarely at full capacity prior to the event\, and we will accommodate walk-ins if space is available. They will be accepted on a first-come\, first-served basis\, and must arrive during the specified check-in time frame. Tour tickets can be purchased directly from the guide with cash only. Note: if no one has signed up for the tour by online reservation within the allotted time frame\, the tour will not run. In such a case\, walk-ins will not be possible. Refunds will be issued only for cancelled – not modified – tours/programs. No refunds will be issued for no-shows. \nDates:  \nSaturday evenings: \nJune 13\, July 11\, August 8\, September 19 \nCheck-in: 5:30 p.m. – 6:00 p.m. \nProgram:  6:00 p.m. – 8:00 p.m. \nCapacity: 30 \n\nBOOK NOW
URL:https://www.chimneyrockco.org/event/flute-music-at-twilight-program/2026-09-19/
LOCATION:Chimney Rock National Monument\, 3179 CO-151\, Chimney Rock\, CO\, 811212\, United States
ATTACH;FMTTYPE=image/jpeg:https://www.chimneyrockco.org/wp-content/uploads/2022/11/small-NS.jpg
ORGANIZER;CN="Chimney Rock Interpretive Association":MAILTO:chimneyrock@chimneyrockco.org
END:VEVENT
END:VCALENDAR