BEGIN:VCALENDAR
VERSION:2.0
PRODID:-//Chimney Rock National Monument - ECPv6.15.20//NONSGML v1.0//EN
CALSCALE:GREGORIAN
METHOD:PUBLISH
X-ORIGINAL-URL:https://www.chimneyrockco.org
X-WR-CALDESC:Events for Chimney Rock National Monument
REFRESH-INTERVAL;VALUE=DURATION:PT1H
X-Robots-Tag:noindex
X-PUBLISHED-TTL:PT1H
BEGIN:VTIMEZONE
TZID:America/Denver
BEGIN:DAYLIGHT
TZOFFSETFROM:-0700
TZOFFSETTO:-0600
TZNAME:MDT
DTSTART:20240310T090000
END:DAYLIGHT
BEGIN:STANDARD
TZOFFSETFROM:-0600
TZOFFSETTO:-0700
TZNAME:MST
DTSTART:20241103T080000
END:STANDARD
BEGIN:DAYLIGHT
TZOFFSETFROM:-0700
TZOFFSETTO:-0600
TZNAME:MDT
DTSTART:20250309T090000
END:DAYLIGHT
BEGIN:STANDARD
TZOFFSETFROM:-0600
TZOFFSETTO:-0700
TZNAME:MST
DTSTART:20251102T080000
END:STANDARD
BEGIN:DAYLIGHT
TZOFFSETFROM:-0700
TZOFFSETTO:-0600
TZNAME:MDT
DTSTART:20260308T090000
END:DAYLIGHT
BEGIN:STANDARD
TZOFFSETFROM:-0600
TZOFFSETTO:-0700
TZNAME:MST
DTSTART:20261101T080000
END:STANDARD
END:VTIMEZONE
BEGIN:VEVENT
DTSTART;TZID=America/Denver:20250121T150000
DTEND;TZID=America/Denver:20250121T163000
DTSTAMP:20260421T144301
CREATED:20250308T204037Z
LAST-MODIFIED:20250308T212013Z
UID:10002973-1737471600-1737477000@www.chimneyrockco.org
SUMMARY:Lecture: John Ghahate\, “Ancestral Puebloans to Contemporary SW Pueblos: Science\, Community\, Languages & Cultures”
DESCRIPTION:CRIA Lecture Series with Jon Ghahate:\n“Ancestral Puebloans to Contemporary SW Pueblos: Science\, Community\, Languages & Cultures” \nTuesday\, January 21\, 2025\nChimney Rock Interpretive Association (CRIA) invites the public to a free lecture given by Jon Ghahte on Tuesday\, January 21st. The lecture will take place at 3:00 PM at the Ruby M. Sisson Memorial Library located at 811 San Juan Street\, Pagosa Springs. Join us as Jon Ghahate discusses\, “Ancestral Puebloans to Contemporary SW Pueblos: Science\, Community\, Languages & Cultures”. \nThe Lecture is scheduled to begin at 3:00pm and a Q & A period will follow the lecture. Jon Ghahate is a Museum Cultural Educator\, Indian Pueblo Cultural Center\, of the Pueblos of Laguna and Zuni in New Mexico\, Turkey and Badger Clans. \nCRIA’s free Lecture Series offer the opportunity each year for the public and CRIA volunteers to enjoy a speaker whose topic typically relates to southwest archaeology\, archaeoastronomy and/or Chacoan culture. Donations accepted. \nCRIA is a non-profit 501(c)3 organization that offers interpretive programs at Chimney Rock National Monument in partnership with the USDA Forest Service and the San Juan National Forest. \nFor more information see the CRIA website at www.chimneyrockco.org or call (970) 731-7133.
URL:https://www.chimneyrockco.org/event/lecture-john-ghahate/
LOCATION:Ruby Sisson Library\, Pagosa Springs\, CO\, 81147\, United States
ORGANIZER;CN="Chimney Rock Interpretive Association":MAILTO:chimneyrock@chimneyrockco.org
END:VEVENT
END:VCALENDAR