BEGIN:VCALENDAR
VERSION:2.0
PRODID:-//Chimney Rock National Monument - ECPv6.15.20//NONSGML v1.0//EN
CALSCALE:GREGORIAN
METHOD:PUBLISH
X-ORIGINAL-URL:https://www.chimneyrockco.org
X-WR-CALDESC:Events for Chimney Rock National Monument
REFRESH-INTERVAL;VALUE=DURATION:PT1H
X-Robots-Tag:noindex
X-PUBLISHED-TTL:PT1H
BEGIN:VTIMEZONE
TZID:UTC
BEGIN:STANDARD
TZOFFSETFROM:+0000
TZOFFSETTO:+0000
TZNAME:UTC
DTSTART:20240101T000000
END:STANDARD
END:VTIMEZONE
BEGIN:VEVENT
DTSTART;TZID=UTC:20250607T183000
DTEND;TZID=UTC:20250607T194500
DTSTAMP:20260424T085414
CREATED:20260210T034013Z
LAST-MODIFIED:20260210T034036Z
UID:10002959-1749321000-1749325500@www.chimneyrockco.org
SUMMARY:Early Tour/ Full Moon Program
DESCRIPTION:PROGRAM DETAILS \nThis guided tour is offered in conjunction with the Full Moon Program for a more comprehensive study of Chimney Rock National Monument. It starts late afternoon before the Full Moon Program to merge with that wondrous night sky experience later in the evening. The entire program lasts approximately four hours versus the shorter\, three-hour Full Moon Program.  \nKNOW BEFORE YOU GO \nThis tour takes the visitor on the 1/3-mile paved Mesa Village Trail\, then proceeds up the Great House Trail to join the Full Moon Program. At the end of the trail\, visitors will enjoy a 360-degree panoramic view from atop the mesa ridge. They will also be afforded the closest view possible of the two pinnacles: Chimney Rock and Companion Rock. Please keep in mind that the lecture before the moonrise is approximately 30 minutes in length\, and the hike back down the high mesa occurs after dark. The hike up to the Chacoan Great House Pueblo may be difficult for some due to the steep gradient\, uneven footing\, and elevation ending at 7600 feet. The elevation gain is 200 feet. Participants should be in reasonable physical condition and willing to hike mostly uphill for 1/3 mile (and return steeply downhill). This program is not suitable for children under 8\, and parents are asked to closely supervise their children for the safety of all attendees. Water\, flashlights\, and a blanket or mat for ground seating (no chairs) are recommended.  \nTICKETS \nCheck-in is at the Highway 151 entrance gate at the time stated below for each tour. Please adhere to the check-in timeline. The gate will be promptly locked at the end of that time.  \nTickets are $30.00. Making a reservation through the Recreation.gov website or the call center (877-444-6777) is the only way to guarantee a spot for this tour. Recreation.gov charges a $1.00 reservation fee that is non-refundable. To ensure this tour is scheduled\, reservations are strongly recommended. Reservations will be cut off 12 hours prior to the start of the tour. Most tours are at full capacity prior to the event\, but walk-ins will be accommodated if space is available. They will be accepted on a first come\, first served basis\, and must arrive during the specified check-in time frame. Walk-in tickets\, if available\, can be purchased at the Gift Shop. Note: if no one has signed up for the tour by online reservation within the allotted time frame\, the tour will not run. Refunds will be issued only for cancelled – not modified – tours/programs. No refunds will be issued for no-shows.  \nDates:  \nTuesday\, June 10:  \nCheck-in: 5:15 p.m. – 5:30 p.m.  \nTour: 5:30 p.m. – 6:15 p.m.  \nThursday\, July 10:  \nCheck-in: 5:45 p.m. – 6:00 p.m.  \nTour: 6:00 p.m. – 6:45 p.m.  \nSaturday\, August 9:  \nCheck-in: 5:30 p.m. – 5:45 p.m.  \nTour: 5:45 p.m. – 6:15 p.m. \nSunday\, September 7:  \nCheck-in: 4:45 p.m. – 5:00 p.m.  \nTour: 5:00 p.m. – 5:45 p.m.  \nMonday\, October 6:  \nCheck-in: 4:30 p.m. – 4:45 p.m. Tour: 4:45 p.m. – 5:30 p.m.  \nCapacity: 25  \nBOOK NOW\n 
URL:https://www.chimneyrockco.org/event/early-tour-full-moon-program-4-3/
LOCATION:Chimney Rock National Monument\, 3179 CO-151\, Chimney Rock\, CO\, 811212\, United States
ATTACH;FMTTYPE=image/jpeg:https://www.chimneyrockco.org/wp-content/uploads/2016/06/earlytour.jpg
ORGANIZER;CN="Chimney Rock Interpretive Association":MAILTO:chimneyrock@chimneyrockco.org
END:VEVENT
END:VCALENDAR