BEGIN:VCALENDAR
VERSION:2.0
PRODID:-//Chimney Rock National Monument - ECPv6.15.20//NONSGML v1.0//EN
CALSCALE:GREGORIAN
METHOD:PUBLISH
X-WR-CALNAME:Chimney Rock National Monument
X-ORIGINAL-URL:https://www.chimneyrockco.org
X-WR-CALDESC:Events for Chimney Rock National Monument
REFRESH-INTERVAL;VALUE=DURATION:PT1H
X-Robots-Tag:noindex
X-PUBLISHED-TTL:PT1H
BEGIN:VTIMEZONE
TZID:America/Denver
BEGIN:DAYLIGHT
TZOFFSETFROM:-0700
TZOFFSETTO:-0600
TZNAME:MDT
DTSTART:20240310T090000
END:DAYLIGHT
BEGIN:STANDARD
TZOFFSETFROM:-0600
TZOFFSETTO:-0700
TZNAME:MST
DTSTART:20241103T080000
END:STANDARD
BEGIN:DAYLIGHT
TZOFFSETFROM:-0700
TZOFFSETTO:-0600
TZNAME:MDT
DTSTART:20250309T090000
END:DAYLIGHT
BEGIN:STANDARD
TZOFFSETFROM:-0600
TZOFFSETTO:-0700
TZNAME:MST
DTSTART:20251102T080000
END:STANDARD
BEGIN:DAYLIGHT
TZOFFSETFROM:-0700
TZOFFSETTO:-0600
TZNAME:MDT
DTSTART:20260308T090000
END:DAYLIGHT
BEGIN:STANDARD
TZOFFSETFROM:-0600
TZOFFSETTO:-0700
TZNAME:MST
DTSTART:20261101T080000
END:STANDARD
END:VTIMEZONE
BEGIN:VEVENT
DTSTART;TZID=America/Denver:20250507T090000
DTEND;TZID=America/Denver:20250507T143000
DTSTAMP:20260422T032749
CREATED:20250308T213857Z
LAST-MODIFIED:20250531T215704Z
UID:10002981-1746608400-1746628200@www.chimneyrockco.org
SUMMARY:School Week
DESCRIPTION:2025 Youth Workshops\nSchool Weeks at Chimney Rock\nCRIA is dedicated to providing tours of Chimney Rock at no cost for school groups.  CRIA’s Education Committee has created the Junior Archaeologist Booklet and Badge\, an educational video and an outreach mobile classroom kit to provide an enhanced experience for these young people in the hope they will value sites such as Chimney Rock and continue efforts to educate the public and preserve the cultural heritage. \nSchool Group Tours are available: \nMay 5\, 6\, 7\, 8\, 9 \nMay 12\, 13\, 14 \nOctober 6-10 \nWorkshops run from 9 a.m. to 2:30 p.m. \nAvailable for kids in Kindergarten through 6th Grade. \nFirst child – $25 for each class\, $75 for all 4 classes \nAdditional child – $20 for each class\, $60.00 for all 4 classes(advance payment required.) \nLimited scholarships are available.  Workshop volunteers welcome. \nTo register call 970-731-7133 or email officemgr@chimneyrockco.org. \n********************** \nSummer Youth Workshops\nThe workshops\, scheduled for June 10 and 24\, and July 8 and 22\, offer elementary-aged children the chance to explore the rich history and natural beauty of this iconic landmark. Led by mostly retired school teachers\, the Youth Workshops are designed to provide children with a unique\, hands-on experience at the monument while fostering their creativity and appreciation for nature. “We’re thrilled to be celebrating the fifth year of our Youth Workshops\,” said Denise Fisk\, CRIA volunteer. “The program continues to grow and provides an amazing opportunity for children to connect with nature\, history\, and the arts. We’re proud to offer a hands-on educational experience that’s led by such passionate and knowledgeable volunteers.”\nThis year’s workshops will feature a variety of engaging activities\, such as rock wrapping\, feather art\, printmaking\, weaving in the round\, creating a clay ocarina\, and learning how to make a nature journal. The day kicks off with a hike with a theme\, allowing participants to learn about the natural and cultural significance of Chimney Rock while exploring its breathtaking landscapes. After lunch\, children will immerse themselves in activities that tie into the theme of the day\, ensuring both fun and education go hand-in-hand. Parents have shared how much their children have enjoyed these workshops over the years. One parent commented\, “This was the 4th year my daughter has attended and she is still just as excited as the first.” Another said\, “My son looks forward to these fun learning workshops! I also enjoy a few minutes for myself! Thank you for all the knowledge\, and I hope my son can be a part of this experience next year.” \nWorkshops are open to elementary-aged children\, and parent volunteers are always welcome to join in the fun and learning. \nCRIA encourages parents to register early. \nCall 970-731-7133 or go to chimneyrockco.org for more information and to secure a spot for your child. \nDates: June 10 and 24\, and July 8 and 22
URL:https://www.chimneyrockco.org/event/school-week/2025-05-07/
LOCATION:Chimney Rock National Monument\, 3179 CO-151\, Chimney Rock\, CO\, 811212\, United States
END:VEVENT
END:VCALENDAR