BEGIN:VCALENDAR
VERSION:2.0
PRODID:-//Chimney Rock National Monument - ECPv6.15.20//NONSGML v1.0//EN
CALSCALE:GREGORIAN
METHOD:PUBLISH
X-ORIGINAL-URL:https://www.chimneyrockco.org
X-WR-CALDESC:Events for Chimney Rock National Monument
REFRESH-INTERVAL;VALUE=DURATION:PT1H
X-Robots-Tag:noindex
X-PUBLISHED-TTL:PT1H
BEGIN:VTIMEZONE
TZID:America/Denver
BEGIN:DAYLIGHT
TZOFFSETFROM:-0700
TZOFFSETTO:-0600
TZNAME:MDT
DTSTART:20240310T090000
END:DAYLIGHT
BEGIN:STANDARD
TZOFFSETFROM:-0600
TZOFFSETTO:-0700
TZNAME:MST
DTSTART:20241103T080000
END:STANDARD
BEGIN:DAYLIGHT
TZOFFSETFROM:-0700
TZOFFSETTO:-0600
TZNAME:MDT
DTSTART:20250309T090000
END:DAYLIGHT
BEGIN:STANDARD
TZOFFSETFROM:-0600
TZOFFSETTO:-0700
TZNAME:MST
DTSTART:20251102T080000
END:STANDARD
BEGIN:DAYLIGHT
TZOFFSETFROM:-0700
TZOFFSETTO:-0600
TZNAME:MDT
DTSTART:20260308T090000
END:DAYLIGHT
BEGIN:STANDARD
TZOFFSETFROM:-0600
TZOFFSETTO:-0700
TZNAME:MST
DTSTART:20261101T080000
END:STANDARD
END:VTIMEZONE
BEGIN:VEVENT
DTSTART;TZID=America/Denver:20250425T160000
DTEND;TZID=America/Denver:20250425T183000
DTSTAMP:20260421T210416
CREATED:20250308T221512Z
LAST-MODIFIED:20250308T221649Z
UID:10002991-1745596800-1745605800@www.chimneyrockco.org
SUMMARY:Durango Wine Experience
DESCRIPTION:April 25-26\, 2025\n\n\n\n\nThe Durango Wine Experience\, a rich and well balanced event\, is brought to you by the Community Foundation serving Southwest Colorado. Event proceeds support the Community Foundation and our vital work in the nonprofit sector. Together we build a thriving\, vibrant community.\n\nThe Community Foundation serving Southwest Colorado announced that Chimney Rock Interpretive Association has been selected for this year’s nonprofit grant component of the Durango Wine Experience! \nAs part of this program\, Chimney Rock Interpretive Association will receive a $2\,500 grant. CRIA volunteers will be working the DWE Walkabout on Friday\, April 26\, from 3:30 to 7:30 PM\, and at the DWE Grand Tasting on Saturday\, April 27\, from 2:30 to 6:30 PM. This is an excellent opportunity for you to connect with us and learn more about our organization’s mission. \nPlan to join us on Friday\, April 25\, 2025 and/or Saturday\, April 26\, 2025. \n\nTickets for the 2025 Durango Wine Experience can be found online HERE. \nWalkabout\nHundreds of wines featured with light appetizers at multiple downtown Durango locations. \nFriday\, April 25: 4 pm – 6:30 pm\n\nGrand Tasting\n\nAt Buckley Park\, it will feature hundreds of wines and Colorado spirits along with Durango’s finest restaurants showcasing their delectable cuisine. \nSaturday\, April 26: 3 pm – 6 pm
URL:https://www.chimneyrockco.org/event/durango-wine-experience/2025-04-25/
END:VEVENT
END:VCALENDAR