BEGIN:VCALENDAR
VERSION:2.0
PRODID:-//Chimney Rock National Monument - ECPv6.15.20//NONSGML v1.0//EN
CALSCALE:GREGORIAN
METHOD:PUBLISH
X-ORIGINAL-URL:https://www.chimneyrockco.org
X-WR-CALDESC:Events for Chimney Rock National Monument
REFRESH-INTERVAL;VALUE=DURATION:PT1H
X-Robots-Tag:noindex
X-PUBLISHED-TTL:PT1H
BEGIN:VTIMEZONE
TZID:America/Denver
BEGIN:DAYLIGHT
TZOFFSETFROM:-0700
TZOFFSETTO:-0600
TZNAME:MDT
DTSTART:20240310T090000
END:DAYLIGHT
BEGIN:STANDARD
TZOFFSETFROM:-0600
TZOFFSETTO:-0700
TZNAME:MST
DTSTART:20241103T080000
END:STANDARD
BEGIN:DAYLIGHT
TZOFFSETFROM:-0700
TZOFFSETTO:-0600
TZNAME:MDT
DTSTART:20250309T090000
END:DAYLIGHT
BEGIN:STANDARD
TZOFFSETFROM:-0600
TZOFFSETTO:-0700
TZNAME:MST
DTSTART:20251102T080000
END:STANDARD
BEGIN:DAYLIGHT
TZOFFSETFROM:-0700
TZOFFSETTO:-0600
TZNAME:MDT
DTSTART:20260308T090000
END:DAYLIGHT
BEGIN:STANDARD
TZOFFSETFROM:-0600
TZOFFSETTO:-0700
TZNAME:MST
DTSTART:20261101T080000
END:STANDARD
END:VTIMEZONE
BEGIN:VEVENT
DTSTART;TZID=America/Denver:20250415T180000
DTEND;TZID=America/Denver:20250415T193000
DTSTAMP:20260421T205918
CREATED:20250212T045952Z
LAST-MODIFIED:20250308T210336Z
UID:10002015-1744740000-1744745400@www.chimneyrockco.org
SUMMARY:Lecture Series: Andy Gulliford\, “Bears Ears Landscape of Refuge and Resistance”
DESCRIPTION:Chimney Rock Interpretive Association (CRIA) invites the public to a free lecture given by Andy Gulliford on Tuesday\, April 15th. \nThe lecture will take place at 6:00 PM at the Methodist Church Fellowship Hall located at 434 Lewis St\, Pagosa Springs\, CO 81147. \nJoin us as Andy Gulliford discusses\, Bears Ears: Landscape of Refuge and Resistance. \nThe Lecture is scheduled to begin at 6:00pm and a Q & A period will follow the lecture. \nDate: Tuesday\, April 15\, 2025\nTime: 6:00-7:30pm\nLocation: Methodist Church Fellowship Hall\nAddress: 434 Lewis St\, Pagosa Springs\, CO 81147 \nCRIA’s free Lecture Series offer the opportunity each year for the public and CRIA volunteers to enjoy a speaker whose topic typically relates to southwest archaeology\, archaeoastronomy and/or Chacoan culture. Donations accepted.
URL:https://www.chimneyrockco.org/event/lecture-series-andy-gulliford/
LOCATION:434 Lewis Street
ORGANIZER;CN="Chimney Rock Interpretive Association":MAILTO:chimneyrock@chimneyrockco.org
END:VEVENT
END:VCALENDAR