BEGIN:VCALENDAR
VERSION:2.0
PRODID:-//Chimney Rock National Monument - ECPv6.15.20//NONSGML v1.0//EN
CALSCALE:GREGORIAN
METHOD:PUBLISH
X-ORIGINAL-URL:https://www.chimneyrockco.org
X-WR-CALDESC:Events for Chimney Rock National Monument
REFRESH-INTERVAL;VALUE=DURATION:PT1H
X-Robots-Tag:noindex
X-PUBLISHED-TTL:PT1H
BEGIN:VTIMEZONE
TZID:America/Denver
BEGIN:DAYLIGHT
TZOFFSETFROM:-0700
TZOFFSETTO:-0600
TZNAME:MDT
DTSTART:20240310T090000
END:DAYLIGHT
BEGIN:STANDARD
TZOFFSETFROM:-0600
TZOFFSETTO:-0700
TZNAME:MST
DTSTART:20241103T080000
END:STANDARD
BEGIN:DAYLIGHT
TZOFFSETFROM:-0700
TZOFFSETTO:-0600
TZNAME:MDT
DTSTART:20250309T090000
END:DAYLIGHT
BEGIN:STANDARD
TZOFFSETFROM:-0600
TZOFFSETTO:-0700
TZNAME:MST
DTSTART:20251102T080000
END:STANDARD
BEGIN:DAYLIGHT
TZOFFSETFROM:-0700
TZOFFSETTO:-0600
TZNAME:MDT
DTSTART:20260308T090000
END:DAYLIGHT
BEGIN:STANDARD
TZOFFSETFROM:-0600
TZOFFSETTO:-0700
TZNAME:MST
DTSTART:20261101T080000
END:STANDARD
END:VTIMEZONE
BEGIN:VEVENT
DTSTART;TZID=America/Denver:20250412T120000
DTEND;TZID=America/Denver:20250412T140000
DTSTAMP:20260421T210452
CREATED:20250319T024809Z
LAST-MODIFIED:20250327T172005Z
UID:10002993-1744459200-1744466400@www.chimneyrockco.org
SUMMARY:Volunteer Open House
DESCRIPTION:To help potential volunteers learn about interesting and inspiring opportunities at Chimney Rock National Monument\, CRIA will host an open house at the Chimney Rock Interpretive Association Office located at 2035 Eagle Drive\, Suite 107\, Pagosa Springs\, CO 81147 on Saturday\, April 12th\, from 12:00pm – 2:00 pm. \nThere will be a host of CRIA volunteers on hand to welcome you and talk about the various positions available; answer questions\, concerns; and point you in the right direction to ensure a fun and enjoyable experience at Chimney Rock National Monument.
URL:https://www.chimneyrockco.org/event/volunteer-open-house-3/
LOCATION:CRIA Office\, 2035 Eagle Drive\, Suite 107\, Pagosa Springs\, Colorado\, 81147
ATTACH;FMTTYPE=image/png:https://www.chimneyrockco.org/wp-content/uploads/2020/02/Volunteer-FB-post.png
ORGANIZER;CN="Chimney Rock Interpretive Association":MAILTO:chimneyrock@chimneyrockco.org
END:VEVENT
END:VCALENDAR